BEGIN:VCALENDAR
VERSION:2.0
PRODID:-//ChamberMaster//Event Calendar 2.0//EN
METHOD:PUBLISH
X-PUBLISHED-TTL:P3D
REFRESH-INTERVAL:P3D
CALSCALE:GREGORIAN
BEGIN:VEVENT
DTSTART:20170620T150000Z
DTEND:20170620T180000Z
X-MICROSOFT-CDO-ALLDAYEVENT:FALSE
SUMMARY:VBS On The Ridge
DESCRIPTION:NEW 2017 DATES June 19th - June 22nd 2017 9:00 AM - 12:00 PM Ages 4 thru 12 Ridgeview Bible Church 919 E 10th St Chadron\, NE *VBS Closing Celebration - Thursday June 22nd - 6:30 pm*
X-ALT-DESC;FMTTYPE=text/html:NEW 2017 DATES June 19th - June 22nd 2017 9:00 AM - 12:00 PM Ages 4 thru 12 Ridgeview Bible Church 919 E 10th St Chadron\, NE *VBS Closing Celebration - Thursday June 22nd - 6:30 pm*
LOCATION:Ridgeview Bible Church 919 E 10th St Chadron\, NE
UID:e.2623.144
SEQUENCE:3
DTSTAMP:20260423T085424Z
URL:http://chadronne.chambermaster.com/events/details/vbs-on-the-ridge-144
END:VEVENT

END:VCALENDAR
