BEGIN:VCALENDAR
VERSION:2.0
PRODID:-//ChamberMaster//Event Calendar 2.0//EN
METHOD:PUBLISH
X-PUBLISHED-TTL:P3D
REFRESH-INTERVAL:P3D
CALSCALE:GREGORIAN
BEGIN:VEVENT
DTSTART:20180110T150000Z
DTEND:20180110T230000Z
X-MICROSOFT-CDO-ALLDAYEVENT:FALSE
SUMMARY:VA Stand Down Program
DESCRIPTION:The Veterans Affairs Stand Down is an opportunity for local area Veterans to receive resources including: medical\, counseling\, educational\, and more from the Black Hills VA\, local area partners\, and Chadron State College.  The event is open to all area Veterans and their families.
X-ALT-DESC;FMTTYPE=text/html:<div>&nbsp\;</div>\n\n<div>\n<table border="0" cellpadding="0" cellspacing="0" class="twEventDetailTable" style="line-height: 1.4em\; width: 600px\; color: rgb(0\, 0\, 0)\; font-family: verdana\; font-size: 10.6667px\;">\n	<tbody style="line-height: 1.4em\;">\n		<tr style="line-height: 1.4em\; vertical-align: top\;">\n			<td class="twEventDetailData" style="line-height: 1.4em\; padding: 8px 0px 0px\; vertical-align: baseline\; font-size: 8pt\;">\n			<p class="onlyp" style="line-height: 1.4em\; margin: 0px\; padding: 0px\;">The Veterans Affairs Stand Down is an opportunity for local area Veterans to receive resources including: medical\, counseling\, educational\, and more from the Black Hills VA\, local area partners\, and Chadron State College.&nbsp\; The event is open to all area Veterans and their families.</p>\n			</td>\n		</tr>\n	</tbody>\n</table>\n</div>\n
LOCATION:Chadron State College Student Center Ballroom
UID:e.2623.874
SEQUENCE:3
DTSTAMP:20260419T142145Z
URL:http://chadronne.chambermaster.com/events/details/va-stand-down-program-874
END:VEVENT

END:VCALENDAR
