BEGIN:VCALENDAR
VERSION:2.0
PRODID:-//ChamberMaster//Event Calendar 2.0//EN
METHOD:PUBLISH
X-PUBLISHED-TTL:P3D
REFRESH-INTERVAL:P3D
CALSCALE:GREGORIAN
BEGIN:VEVENT
DTSTART:20180630T020000Z
DTEND:20180630T040000Z
X-MICROSOFT-CDO-ALLDAYEVENT:FALSE
SUMMARY:Urinetown Opening Weekend
DESCRIPTION:The Post Playhouse will open the fourth show of their summer 2018 season\, Urinetown! \nA sidesplitting send up of greed\, love\, revolution (and musicals!)\, in a time when water is worth its weight in gold.\n\nWinner of three Tony Awards\, three Outer Critics Circle Awards\, two Lucille Lortel Awards and two Obie Awards\, Urinetown is a hilarious musical satire of the legal system\, capitalism\, social irresponsibility\, populism\, bureaucracy\, corporate mismanagement\, municipal politics and musical theatre itself! Hilariously funny and touchingly honest\, Urinetown provides a fresh perspective on one of America's greatest art forms.\n\nIn a Gotham-like city\, a terrible water shortage\, caused by a 20-year drought\, has led to a government-enforced ban on private toilets. The citizens must use public amenities\, regulated by a single malevolent company that profits by charging admission for one of humanity's most basic needs. Amid the people\, a hero decides that he's had enough and plans a revolution to lead them all to freedom!\n\nInspired by the works of Bertolt Brecht and Kurt Weill\, Urinetown is an irreverently humorous satire in which no one is safe from scrutiny. Praised for reinvigorating the very notion of what a musical could be\, Urinetown catapults the "comedic romp" into the new millennium with its outrageous perspective\, wickedly modern wit and sustained ability to produce gales of unbridled laughter.
X-ALT-DESC;FMTTYPE=text/html:<span style="font-size:14px\;">The Post Playhouse will open the fourth&nbsp\;show of their summer 2018 season\, Urinetown!&nbsp\;</span>\n<p style="box-sizing: inherit\; margin: 0px 0px 15px\; padding: 0px\; color: rgb(34\, 34\, 34)\; font-family: proxima-nova\, sans-serif\; font-size: 19.2px\; background-color: rgb(255\, 255\, 255)\;"><span style="font-size:14px\;">A sidesplitting send up of greed\, love\, revolution (and musicals!)\, in a time when water is worth its weight in gold.</span></p>\n\n<p style="box-sizing: inherit\; margin: 0px 0px 15px\; padding: 0px\; color: rgb(34\, 34\, 34)\; font-family: proxima-nova\, sans-serif\; font-size: 19.2px\; background-color: rgb(255\, 255\, 255)\;"><span style="font-size:14px\;">Winner of three Tony Awards\, three Outer Critics Circle Awards\, two Lucille Lortel Awards and two Obie Awards\,&nbsp\;<em style="box-sizing: inherit\;">Urinetown</em>&nbsp\;is a hilarious musical satire of the legal system\, capitalism\, social irresponsibility\, populism\, bureaucracy\, corporate mismanagement\, municipal politics and musical theatre itself! Hilariously funny and touchingly honest\,&nbsp\;<em style="box-sizing: inherit\;">Urinetown</em>&nbsp\;provides a fresh perspective on one of America&rsquo\;s greatest art forms.</span></p>\n\n<p style="box-sizing: inherit\; margin: 0px 0px 15px\; padding: 0px\; color: rgb(34\, 34\, 34)\; font-family: proxima-nova\, sans-serif\; font-size: 19.2px\; background-color: rgb(255\, 255\, 255)\;"><span style="font-size:14px\;">In a Gotham-like city\, a terrible water shortage\, caused by a 20-year drought\, has led to a government-enforced ban on private toilets. The citizens must use public amenities\, regulated by a single malevolent company that profits by charging admission for one of humanity&rsquo\;s most basic needs. Amid the people\, a hero decides that he&rsquo\;s had enough and plans a revolution to lead them all to freedom!</span></p>\n\n<p style="box-sizing: inherit\; margin: 0px 0px 15px\; padding: 0px\; color: rgb(34\, 34\, 34)\; font-family: proxima-nova\, sans-serif\; font-size: 19.2px\; background-color: rgb(255\, 255\, 255)\;"><span style="font-size:14px\;">Inspired by the works of Bertolt Brecht and Kurt Weill\,&nbsp\;<em style="box-sizing: inherit\;">Urinetown</em>&nbsp\;is an irreverently humorous satire in which no one is safe from scrutiny. Praised for reinvigorating the very notion of what a musical could be\,&nbsp\;<em style="box-sizing: inherit\;">Urinetown</em>&nbsp\;catapults the &ldquo\;comedic romp&rdquo\; into the new millennium with its outrageous perspective\, wickedly modern wit and sustained ability to produce gales of unbridled laughter.</span></p>\n
LOCATION:Post Playhouse\, Fort Robinson State Park Crawford\, NE 69339
UID:e.2623.1995
SEQUENCE:3
DTSTAMP:20260420T005833Z
URL:http://chadronne.chambermaster.com/events/details/urinetown-opening-weekend-1995
END:VEVENT

END:VCALENDAR
