BEGIN:VCALENDAR
VERSION:2.0
PRODID:-//ChamberMaster//Event Calendar 2.0//EN
METHOD:PUBLISH
X-PUBLISHED-TTL:P3D
REFRESH-INTERVAL:P3D
CALSCALE:GREGORIAN
BEGIN:VEVENT
DTSTART:20170823T160000Z
DTEND:20170823T190000Z
X-MICROSOFT-CDO-ALLDAYEVENT:FALSE
SUMMARY:Uptown on Campus
DESCRIPTION:Geared for students on the campus of CSC\, Uptown on Campus is an event that allows for students to learn what the Chadron Community has to offer. Local business are invited to set up shop in the ballroom and visit with students about their services and products.
X-ALT-DESC;FMTTYPE=text/html:Geared for students on the campus of CSC\, Uptown on Campus is an event that allows for students to learn what the Chadron Community has to offer. Local business are invited to set up shop in the ballroom and visit with students about their services and products.
LOCATION:Chadron State College Student Center Ballroom
UID:e.2623.556
SEQUENCE:3
DTSTAMP:20260423T060914Z
URL:http://chadronne.chambermaster.com/events/details/uptown-on-campus-556
END:VEVENT

END:VCALENDAR
