BEGIN:VCALENDAR
VERSION:2.0
PRODID:-//ChamberMaster//Event Calendar 2.0//EN
METHOD:PUBLISH
X-PUBLISHED-TTL:P3D
REFRESH-INTERVAL:P3D
CALSCALE:GREGORIAN
BEGIN:VEVENT
DTSTART:20180124T020000Z
DTEND:20180124T033000Z
X-MICROSOFT-CDO-ALLDAYEVENT:FALSE
SUMMARY:UNO Electric Percussion Performance
DESCRIPTION:Come and enjoy an evening of music.
X-ALT-DESC;FMTTYPE=text/html:<div>&nbsp\;</div>\n\n<div>\n<table border="0" cellpadding="0" cellspacing="0" class="twEventDetailTable" style="line-height: 1.4em\; width: 600px\; color: rgb(0\, 0\, 0)\; font-family: verdana\; font-size: 10.6667px\;">\n	<tbody style="line-height: 1.4em\;">\n		<tr style="line-height: 1.4em\; vertical-align: top\;">\n			<td class="twEventDetailData" style="line-height: 1.4em\; padding: 8px 0px 0px\; vertical-align: baseline\; font-size: 8pt\;">\n			<p class="onlyp" style="line-height: 1.4em\; margin: 0px\; padding: 0px\;">Come and enjoy an evening of music.</p>\n			</td>\n		</tr>\n	</tbody>\n</table>\n</div>\n
LOCATION:Memorial Hall Auditorium
UID:e.2623.876
SEQUENCE:3
DTSTAMP:20260421T180518Z
URL:http://chadronne.chambermaster.com/events/details/uno-electric-percussion-performance-876
END:VEVENT

END:VCALENDAR
