BEGIN:VCALENDAR
VERSION:2.0
PRODID:-//ChamberMaster//Event Calendar 2.0//EN
METHOD:PUBLISH
X-PUBLISHED-TTL:P3D
REFRESH-INTERVAL:P3D
CALSCALE:GREGORIAN
BEGIN:VEVENT
DTSTART:20170830T233000Z
DTEND:20170831T023000Z
X-MICROSOFT-CDO-ALLDAYEVENT:FALSE
SUMMARY:Unknown
DESCRIPTION:Chadron Community Hospital\, Dawes County Joint Planning\, Kickstart Crawford\, Panhandle Public Health District and Panhandle Area Development District invite you to celebrate the work you have accomplished to improve the health and well-being in our community for the past several years.  We encourage you to help continue the progress by participating in the development of the plan for the future.\n\n\n\nDinner will be provided
X-ALT-DESC;FMTTYPE=text/html:<span style="font-size:14px\;"><span style="font-family:tahoma\,sans-serif\;"><span style="color:#002060\;">Chadron Community Hospital\, Dawes County Joint Planning\, Kickstart Crawford\, Panhandle Public Health District and Panhandle Area Development District <strong>invite </strong>you to <strong>celebrate </strong>the work you have accomplished to improve the health and well-being in our community for the past several years.&nbsp\; We encourage you to help continue the progress by participating in the <strong>development</strong> of the plan for the future.</span></span><br />\n<br />\n<strong><span style="font-family:tahoma\,sans-serif\;"><span style="color:#002060\;">Dinner will be provided</span></span></strong></span><br />\n&nbsp\;<br />\n&nbsp\;
LOCATION:Chadron State College Student Center Ball Room
UID:e.2623.545
SEQUENCE:3
DTSTAMP:20260421T175044Z
URL:http://chadronne.chambermaster.com/events/details/unknown-545
END:VEVENT

END:VCALENDAR
