BEGIN:VCALENDAR
VERSION:2.0
PRODID:-//ChamberMaster//Event Calendar 2.0//EN
METHOD:PUBLISH
X-PUBLISHED-TTL:P3D
REFRESH-INTERVAL:P3D
CALSCALE:GREGORIAN
BEGIN:VEVENT
DTSTART:20170805T193000Z
DTEND:20170805T210000Z
X-MICROSOFT-CDO-ALLDAYEVENT:FALSE
SUMMARY:Sun Science: Get Ready for the Great American Eclipse
DESCRIPTION:This event\, led by Susan Rolfsmeier\, will be the first in a series of opportunities to learn more about the Great American Solar Eclipse of 2017. You'll get to model the major features of the sun on a cookie too!
X-ALT-DESC;FMTTYPE=text/html:This event\, led by Susan Rolfsmeier\, will be the first in a series of opportunities to learn more about the Great American Solar Eclipse of 2017. You&#39\;ll get to model the major features of the sun on a cookie too!&nbsp\;
LOCATION:Chadron Public Library
UID:e.2623.534
SEQUENCE:3
DTSTAMP:20260421T193538Z
URL:http://chadronne.chambermaster.com/events/details/sun-science-get-ready-for-the-great-american-eclipse-534
END:VEVENT

END:VCALENDAR
