BEGIN:VCALENDAR
VERSION:2.0
PRODID:-//ChamberMaster//Event Calendar 2.0//EN
METHOD:PUBLISH
X-PUBLISHED-TTL:P3D
REFRESH-INTERVAL:P3D
CALSCALE:GREGORIAN
BEGIN:VEVENT
DTSTART:20170811T170000Z
DTEND:20170811T190000Z
X-MICROSOFT-CDO-ALLDAYEVENT:FALSE
SUMMARY:Stuff the Bus BBQ
DESCRIPTION:Stop by the Stuff the Bus campaign for lunch. When you donate school supplies\, you'll receive a free hotdog or hamburger. Chadrad communications is sponsoring the BBQ.
X-ALT-DESC;FMTTYPE=text/html:Stop by the Stuff the Bus campaign for lunch. When you donate school supplies\, you&#39\;ll receive a free hotdog or hamburger. Chadrad communications is sponsoring the BBQ.
LOCATION:FNB North Platte\, east parking lot
UID:e.2623.552
SEQUENCE:3
DTSTAMP:20260422T075336Z
URL:http://chadronne.chambermaster.com/events/details/stuff-the-bus-bbq-552
END:VEVENT

END:VCALENDAR
