BEGIN:VCALENDAR
VERSION:2.0
PRODID:-//ChamberMaster//Event Calendar 2.0//EN
METHOD:PUBLISH
X-PUBLISHED-TTL:P3D
REFRESH-INTERVAL:P3D
CALSCALE:GREGORIAN
BEGIN:VEVENT
DTSTART:20170808T160000Z
DTEND:20170809T000000Z
X-MICROSOFT-CDO-ALLDAYEVENT:FALSE
SUMMARY:Stuff the Bus
DESCRIPTION:Bring school supplies to the big yellow bus in the First National Bank North Platte parking lot\, east of the bank\, and help to stuff the bus! United Way of Western Nebraska is sponsering the supply drive all week.
X-ALT-DESC;FMTTYPE=text/html:Bring school supplies to the big yellow bus in the First National Bank North Platte parking lot\, east of the bank\, and help to stuff the bus! United Way of Western Nebraska is sponsering the supply drive all week.
LOCATION:FNB North Platte\, east parking lot
UID:e.2623.548
SEQUENCE:3
DTSTAMP:20260421T193943Z
URL:http://chadronne.chambermaster.com/events/details/stuff-the-bus-08-08-2017-548
END:VEVENT

END:VCALENDAR
