BEGIN:VCALENDAR
VERSION:2.0
PRODID:-//ChamberMaster//Event Calendar 2.0//EN
METHOD:PUBLISH
X-PUBLISHED-TTL:P3D
REFRESH-INTERVAL:P3D
CALSCALE:GREGORIAN
BEGIN:VEVENT
DTSTART:20171021T000000Z
DTEND:20171026T043000Z
X-MICROSOFT-CDO-ALLDAYEVENT:FALSE
SUMMARY:Spooktacular
DESCRIPTION:Spooktacular is a kid friendly Halloween event! Filled with candy\, games\, and fun family entertainment. We encourage families to come in costume for a safe Halloween experience. October 20-25 from 6:30pm-8pm
X-ALT-DESC;FMTTYPE=text/html:Spooktacular is a kid friendly Halloween event! Filled with candy\, games\, and fun family entertainment. We encourage families to come in costume for a safe Halloween experience. October 20-25 from 6:30pm-8pm
LOCATION:Riverside Discovery Center 1600 S Beltline Highway West
UID:e.2623.597
SEQUENCE:3
DTSTAMP:20260419T165633Z
URL:http://chadronne.chambermaster.com/events/details/spooktacular-597
END:VEVENT

END:VCALENDAR
