BEGIN:VCALENDAR
VERSION:2.0
PRODID:-//ChamberMaster//Event Calendar 2.0//EN
METHOD:PUBLISH
X-PUBLISHED-TTL:P3D
REFRESH-INTERVAL:P3D
CALSCALE:GREGORIAN
BEGIN:VEVENT
DTSTART:20170920T150000Z
DTEND:20170920T220000Z
X-MICROSOFT-CDO-ALLDAYEVENT:FALSE
SUMMARY:Special Effects from Space
DESCRIPTION:24 photographs from space showing various views of the ever-changing surface of the earth. On loan from Johnson Space Center an jointly sponsored by Chadron Chamber of Commerce and Chadron State College.
X-ALT-DESC;FMTTYPE=text/html:24 photographs from space showing various views of the ever-changing surface of the earth. On loan from Johnson Space Center an jointly sponsored by Chadron Chamber of Commerce and Chadron State College.
LOCATION:CSC's Memorial Hall Gallery 239\, 2nd floor
UID:e.2623.526
SEQUENCE:3
DTSTAMP:20260420T000744Z
URL:http://chadronne.chambermaster.com/events/details/special-effects-from-space-09-20-2017-526
END:VEVENT

END:VCALENDAR
