BEGIN:VCALENDAR
VERSION:2.0
PRODID:-//ChamberMaster//Event Calendar 2.0//EN
METHOD:PUBLISH
X-PUBLISHED-TTL:P3D
REFRESH-INTERVAL:P3D
CALSCALE:GREGORIAN
BEGIN:VEVENT
DTSTART:20170818T003000Z
DTEND:20170818T020000Z
X-MICROSOFT-CDO-ALLDAYEVENT:FALSE
SUMMARY:Solar Eclipses and Superstitions
DESCRIPTION:Led by Library Director Rosella Tesch\, learn how different cultures thought about eclipse events\, and superstitions that arose around these periodic events.
X-ALT-DESC;FMTTYPE=text/html:Led by Library Director Rosella Tesch\, learn how different cultures thought about eclipse events\, and superstitions that arose around these periodic events.
LOCATION:Chadron Public Library
UID:e.2623.537
SEQUENCE:3
DTSTAMP:20260423T114103Z
URL:http://chadronne.chambermaster.com/events/details/solar-eclipses-and-superstitions-537
END:VEVENT

END:VCALENDAR
