BEGIN:VCALENDAR
VERSION:2.0
PRODID:-//ChamberMaster//Event Calendar 2.0//EN
METHOD:PUBLISH
X-PUBLISHED-TTL:P3D
REFRESH-INTERVAL:P3D
CALSCALE:GREGORIAN
BEGIN:VEVENT
DTSTART:20170524T200000Z
DTEND:20170525T000000Z
X-MICROSOFT-CDO-ALLDAYEVENT:FALSE
SUMMARY:Rolland Sayer Retirement Reception
DESCRIPTION:After many\, many years and hundreds of projects\, please join us for an Open House Recpition to honor and thank Rolland Sayer for his hard work and dedfication as he retires from Fuller Construction.
X-ALT-DESC;FMTTYPE=text/html:After many\, many years and hundreds of projects\, please join us for an Open House Recpition to honor and thank Rolland Sayer for his hard work and dedfication as he retires from Fuller Construction.
LOCATION:The American Legion\, 123 Bordeaux St.\, Chadron\, NE
UID:e.2623.153
SEQUENCE:3
DTSTAMP:20260424T153928Z
URL:http://chadronne.chambermaster.com/events/details/rolland-sayer-retirement-reception-153
END:VEVENT

END:VCALENDAR
