BEGIN:VCALENDAR
VERSION:2.0
PRODID:-//ChamberMaster//Event Calendar 2.0//EN
METHOD:PUBLISH
X-PUBLISHED-TTL:P3D
REFRESH-INTERVAL:P3D
CALSCALE:GREGORIAN
BEGIN:VEVENT
DTSTART:20170617T150000Z
DTEND:20170617T220000Z
X-MICROSOFT-CDO-ALLDAYEVENT:FALSE
SUMMARY:Ride the Ridge
DESCRIPTION:Set in the beautiful Pine Ridge of Northwest Nebraska. Bring the whole family and your horses to join us for a fun filled day. There are 2 trail rides\, about 6 miles each. Activities are available at Fort Robinson State Park for those who don't ride\, plus there will be door prizes.\n\nCheck out the Facebook page for more information!
X-ALT-DESC;FMTTYPE=text/html:<span style="color: rgb(75\, 79\, 86)\; font-family: Helvetica\, Arial\, sans-serif\; font-size: 14px\; background-color: rgb(255\, 255\, 255)\;">Set in the beautiful Pine Ridge of Northwest Nebraska. Bring the whole family and your horses to join us for a fun filled day. There are 2 trail rides\, about 6 miles each. Activities are available at Fort Robinson State Park for those who don&#39\;t ride\, plus there will be door prizes.<br />\nCheck out the Facebook page for more information!</span>
LOCATION:Fort Robinson. 3200 Hwy. 20\, Crawford\, NE
UID:e.2623.367
SEQUENCE:3
DTSTAMP:20260421T115807Z
URL:http://chadronne.chambermaster.com/events/details/ride-the-ridge-367
END:VEVENT

END:VCALENDAR
