BEGIN:VCALENDAR
VERSION:2.0
PRODID:-//ChamberMaster//Event Calendar 2.0//EN
METHOD:PUBLISH
X-PUBLISHED-TTL:P3D
REFRESH-INTERVAL:P3D
CALSCALE:GREGORIAN
BEGIN:VEVENT
DTSTART;VALUE=DATE:20170225
DTEND;VALUE=DATE:20170226
TRANSP:TRANSPARENT
X-MICROSOFT-CDO-ALLDAYEVENT:TRUE
SUMMARY:Putt-A-Round
DESCRIPTION:PUTT-A-ROUND \n\nEvent Date - February 25\, 2017\n\n(Alternate weather date: March 4\, 2017)\n\n \n\nWhat is it?  Local bars and restaurants host one miniature golf hole each.  Teams of five\, play a round of mini-golf by going from place to place to putt.  All team members must be over 21 except the designated driver (DD).  Teams will have a starting hole and then proceed from business to business until they complete their round.  Team scores and individual scores will be posted.  Once the team finishes they will report to the Post Party at the American Legion for a meal and prizes.\n\n \n\nPurpose of this Event:  1) Provide a community event including our local business and 2) Raise funds for LGA and youth golf programs.\n\n \n\nPrizes:  1st  $400 (plus free entry next year)\, 2nd-$300\; 3rd-$200\; DD   low score $50\; Individual low score-$50\; Best team costume-$100\; flag prizes and door prizes.\n\n \n\nPlease return form with payment to one of our participating businesses: American Legion\, Bean Broker\,  Country Kitchen\, Favorite Bar\, Fryday's 120 Bar\, The Grove\, Olde Main\, Pizza Hut\, The Ridge\, Ridgeview CC\,  and Wild's Bar and Grill.\n\nTeam Entry Fee:  $200.00.  Entry fee includes a t-shirt and dinner for each player.        \n\n \n\nEmail contact:  puttaroundchadron@yahoo.com                                                   Tournament Director:  308-430-4861                                                                                                                                 \n\n***Like us on Facebook/Putt A-Round***\n\nDeadline to register:  February 9th
X-ALT-DESC;FMTTYPE=text/html:<span style="font-size:16px\;"><strong><span style="font-family:comic sans ms\;">PUTT-A-ROUND </span></strong><br />\n<strong>Event Date - <span style="color:red\;">February 25\, 2017</span></strong><br />\n<strong>(Alternate weather date: March 4\, 2017)</strong><br />\n&nbsp\;<br />\n<strong>What is it?&nbsp\; </strong>Local bars and restaurants host one miniature golf hole each.&nbsp\; Teams of <u>five</u>\, play a round of mini-golf by going from place to place to putt.&nbsp\; All team members must be over 21 except the designated driver (DD).&nbsp\; Teams will have a starting hole and then proceed from business to business until they complete their round.&nbsp\; Team scores and individual scores will be posted.&nbsp\; Once the team finishes they will report to the Post Party at the <strong>American Legion</strong> for a meal and prizes.<br />\n&nbsp\;<br />\n<strong>Purpose of this Event:&nbsp\; </strong>1) Provide a community event including our local business and 2) Raise funds for LGA and youth golf programs.<br />\n&nbsp\;<br />\n<strong>Prizes</strong>:&nbsp\; 1<sup>st</sup>&nbsp\; <strong>$400 (plus free entry next year</strong>)\, 2<sup>nd</sup><strong>-$300</strong>\; 3<sup>rd</sup><strong>-$200</strong>\; DD &ndash\; low score <strong>$50</strong>\; Individual low score<strong>-$50</strong>\; Best team costume<strong>-$100</strong>\; flag prizes and door prizes.<br />\n&nbsp\;<br />\n<a name="OLE_LINK2"></a><a name="OLE_LINK1"><em>Please return form with payment to one of our participating businesses:</em></a> <strong><em>American Legion\, Bean Broker\, &nbsp\;Country Kitchen\, Favorite Bar\, Fryday&rsquo\;s 120 Bar\, The Grove\, Olde Main\, Pizza Hut\, The Ridge\, Ridgeview CC\,&nbsp\; and Wild&rsquo\;s Bar and Grill.</em></strong><br />\n<span style="font-family:times new roman\,serif\;">Team Entry Fee:&nbsp\; $200.00.&nbsp\; Entry fee includes a t-shirt and dinner for each player.&nbsp\;&nbsp\;&nbsp\;&nbsp\;&nbsp\;&nbsp\;&nbsp\; </span><br />\n&nbsp\;<br />\n<span style="font-family:times new roman\,serif\;">Email contact:&nbsp\; </span><a href="mailto:puttaroundchadron@yahoo.com"><span style="font-family:times new roman\,serif\;">puttaroundchadron@yahoo.com</span></a><span style="font-family:times new roman\,serif\;">&nbsp\;&nbsp\;&nbsp\;&nbsp\;&nbsp\;&nbsp\;&nbsp\;&nbsp\;&nbsp\;&nbsp\;&nbsp\;&nbsp\;&nbsp\;&nbsp\;&nbsp\;&nbsp\;&nbsp\;&nbsp\;&nbsp\;&nbsp\;&nbsp\;&nbsp\;&nbsp\;&nbsp\;&nbsp\;&nbsp\;&nbsp\;&nbsp\;&nbsp\;&nbsp\;&nbsp\;&nbsp\;&nbsp\;&nbsp\;&nbsp\;&nbsp\;&nbsp\;&nbsp\;&nbsp\;&nbsp\;&nbsp\;&nbsp\;&nbsp\;&nbsp\;&nbsp\;&nbsp\;&nbsp\;&nbsp\;&nbsp\;&nbsp\; Tournament Director:&nbsp\; 308-430-4861&nbsp\;&nbsp\;&nbsp\;&nbsp\;&nbsp\;&nbsp\;&nbsp\;&nbsp\;&nbsp\;&nbsp\;&nbsp\;&nbsp\;&nbsp\;&nbsp\;&nbsp\;&nbsp\;&nbsp\;&nbsp\;&nbsp\;&nbsp\;&nbsp\;&nbsp\;&nbsp\;&nbsp\;&nbsp\;&nbsp\;&nbsp\;&nbsp\;&nbsp\;&nbsp\;&nbsp\;&nbsp\;&nbsp\;&nbsp\;&nbsp\;&nbsp\;&nbsp\;&nbsp\;&nbsp\;&nbsp\;&nbsp\;&nbsp\;&nbsp\;&nbsp\;&nbsp\;&nbsp\;&nbsp\;&nbsp\;&nbsp\;&nbsp\;&nbsp\;&nbsp\;&nbsp\;&nbsp\;&nbsp\;&nbsp\;&nbsp\;&nbsp\;&nbsp\;&nbsp\;&nbsp\;&nbsp\;&nbsp\;&nbsp\;&nbsp\;&nbsp\;&nbsp\;&nbsp\;&nbsp\;&nbsp\;&nbsp\;&nbsp\;&nbsp\;&nbsp\;&nbsp\;&nbsp\;&nbsp\;&nbsp\;&nbsp\;&nbsp\;&nbsp\;&nbsp\;&nbsp\;&nbsp\;&nbsp\;&nbsp\;&nbsp\;&nbsp\;&nbsp\;&nbsp\;&nbsp\;&nbsp\;&nbsp\;&nbsp\;&nbsp\;&nbsp\;&nbsp\;&nbsp\;&nbsp\;&nbsp\;&nbsp\;&nbsp\;&nbsp\;&nbsp\;&nbsp\;&nbsp\;&nbsp\;&nbsp\;&nbsp\;&nbsp\;&nbsp\;&nbsp\;&nbsp\;&nbsp\;&nbsp\;&nbsp\;&nbsp\;&nbsp\;&nbsp\;&nbsp\;&nbsp\;&nbsp\;&nbsp\;&nbsp\;&nbsp\;&nbsp\;&nbsp\;&nbsp\; </span><br />\n<em><span style="font-family:times new roman\,serif\;">***Like us on Facebook/Putt A-Round***</span></em><br />\n<strong><u><span style="color:red\;">Deadline to register:&nbsp\; February 9<sup>th</sup></span></u></strong></span>
LOCATION:
UID:e.2623.134
SEQUENCE:3
DTSTAMP:20260425T031724Z
URL:http://chadronne.chambermaster.com/events/details/putt-a-round-134
END:VEVENT

END:VCALENDAR
