BEGIN:VCALENDAR
VERSION:2.0
PRODID:-//ChamberMaster//Event Calendar 2.0//EN
METHOD:PUBLISH
X-PUBLISHED-TTL:P3D
REFRESH-INTERVAL:P3D
CALSCALE:GREGORIAN
BEGIN:VEVENT
DTSTART:20170705T020000Z
DTEND:20170705T050000Z
X-MICROSOFT-CDO-ALLDAYEVENT:FALSE
SUMMARY:PRCA Rodeo
DESCRIPTION:PRCA Rodeo
X-ALT-DESC;FMTTYPE=text/html:PRCA Rodeo
LOCATION:
UID:e.2623.409
SEQUENCE:3
DTSTAMP:20260420T233603Z
URL:http://chadronne.chambermaster.com/events/details/prca-rodeo-409
END:VEVENT

END:VCALENDAR
