BEGIN:VCALENDAR
VERSION:2.0
PRODID:-//ChamberMaster//Event Calendar 2.0//EN
METHOD:PUBLISH
X-PUBLISHED-TTL:P3D
REFRESH-INTERVAL:P3D
CALSCALE:GREGORIAN
BEGIN:VEVENT
DTSTART:20170704T020000Z
DTEND:20170704T050000Z
X-MICROSOFT-CDO-ALLDAYEVENT:FALSE
SUMMARY:PRCA Rodeo
DESCRIPTION:PRCA Ranch Rodeo
X-ALT-DESC;FMTTYPE=text/html:PRCA Ranch Rodeo
LOCATION:
UID:e.2623.408
SEQUENCE:3
DTSTAMP:20260423T072815Z
URL:http://chadronne.chambermaster.com/events/details/prca-rodeo-408
END:VEVENT

END:VCALENDAR
