BEGIN:VCALENDAR
VERSION:2.0
PRODID:-//ChamberMaster//Event Calendar 2.0//EN
METHOD:PUBLISH
X-PUBLISHED-TTL:P3D
REFRESH-INTERVAL:P3D
CALSCALE:GREGORIAN
BEGIN:VEVENT
DTSTART:20180621T150000Z
DTEND:20180621T230000Z
X-MICROSOFT-CDO-ALLDAYEVENT:FALSE
SUMMARY:Panhandle Junior Golf Tournament
DESCRIPTION:
X-ALT-DESC;FMTTYPE=text/html:
LOCATION:Ridgeview Country Club
UID:e.2623.1968
SEQUENCE:3
DTSTAMP:20260419T194635Z
URL:http://chadronne.chambermaster.com/events/details/panhandle-junior-golf-tournament-1968
END:VEVENT

END:VCALENDAR
