BEGIN:VCALENDAR
VERSION:2.0
PRODID:-//ChamberMaster//Event Calendar 2.0//EN
METHOD:PUBLISH
X-PUBLISHED-TTL:P3D
REFRESH-INTERVAL:P3D
CALSCALE:GREGORIAN
BEGIN:VEVENT
DTSTART;VALUE=DATE:20170514
DTEND;VALUE=DATE:20170521
TRANSP:TRANSPARENT
X-MICROSOFT-CDO-ALLDAYEVENT:TRUE
SUMMARY:Nursing Home Week
DESCRIPTION:Celebrate Nursing Home Week with Crest View Healthcare. The theme is Spirit of America and includes an event each day of the week. Events include a mothers day fashion show\, balloon release\, musical guests\, shopping day\, and community picnic. If you'd like more information\, contact Activity Director\, Sherl Bosch.
X-ALT-DESC;FMTTYPE=text/html:Celebrate Nursing Home Week with Crest View Healthcare. The theme is Spirit of America and includes an event each day of the week. Events include a mothers day fashion show\, balloon release\, musical&nbsp\;guests\, shopping day\, and community picnic. If you&#39\;d like more information\, contact Activity Director\,&nbsp\;Sherl&nbsp\;Bosch.
LOCATION:Crest View Healthcare 420 Gordon Ave. Chadron\, NE 69337
UID:e.2623.386
SEQUENCE:3
DTSTAMP:20260422T234410Z
URL:http://chadronne.chambermaster.com/events/details/nursing-home-week-386
END:VEVENT

END:VCALENDAR
