BEGIN:VCALENDAR
VERSION:2.0
PRODID:-//ChamberMaster//Event Calendar 2.0//EN
METHOD:PUBLISH
X-PUBLISHED-TTL:P3D
REFRESH-INTERVAL:P3D
CALSCALE:GREGORIAN
BEGIN:VEVENT
DTSTART;VALUE=DATE:20180115
DTEND;VALUE=DATE:20180116
TRANSP:TRANSPARENT
X-MICROSOFT-CDO-ALLDAYEVENT:TRUE
SUMMARY:MLK Day Celebration
DESCRIPTION:Chadron State College's plans for Martin Luther King Jr. Day on Monday will include a Q&A session and lecture by Cheryl Brown Henderson\, daughter of the late civil right leader Rev. Oliver L. Brown. Brown was part of the Brown v. Board of Education Supreme Court decision. Henderson will answer audience members' questions in the Chicoine Center following a community walk. The annual walk will start at the corner of Third and Main Streets at 1:30 PM\, proceed south on Main Street\, turn east on Sixth Street to the Chadron Middle School where students from the Chadron Public Schools will join the procession to the CSC campus and the Chicoine Center. The Cardinal Singers will also perform at the 2:00 PM ceremony.\n\n \n\nThe following events will take place in the CSC Student Center Ballroom.\n\n9:00-9:50 AM: "Backlash to Brown v. Board: Senator John Stennis and the Destruction of Public Schools\," featuring Nesheim. \n\n \n\n10:00-10:50 AM: "Reflections on 'Letter from Birmingham Jail\,'" featuring CSC faculty members Mary Clai Jones and Dr. Elisabeth Ellington. \n\n \n\n11:00 AM-12:30 PM: A screening of a documentary\, "Sixty years after the Little Rock Nine faced violent resistance when desegregating Central High in Arkansas\, America's schools continue to represent the key battleground of the Civil Rights Movement." \n\n \n\n3:00-3:50 PM: "Indigenous Education and Civil Rights: Mexico\, South Africa\, and the United States\," featuring CSC faculty members Dr. Robert Knight\, Dr. Thomas Smith\, and Dr. David Christensen.\n\n \n\n6:00-7:30 PM: Henderson's lecture\, "Brown v. Board of Education: Voices of the Legacy."
X-ALT-DESC;FMTTYPE=text/html:<div style="font-family: Arial\, Helvetica\, sans-serif\; margin: 0in 0in 0pt\; background: white\;"><font face="Arial" size="3">Chadron State College&rsquo\;s plans for Martin Luther King Jr. Day&nbsp\;<span style="z-index: -1\;"><span data-term="goog_798834967" style="z-index: 0\;" tabindex="">on Monday</span></span>&nbsp\;will include a Q&amp\;A session and lecture by Cheryl Brown Henderson\, daughter of the late civil right leader Rev. Oliver L. Brown. Brown was part of the Brown v. Board of Education Supreme Court decision.&nbsp\;Henderson will answer audience members&rsquo\; questions in the Chicoine Center following a community walk. The annual walk will start at the corner of Third and Main Streets at&nbsp\;</font><span style="z-index: -1\;"><span data-term="goog_798834968" style="z-index: 0\;" tabindex=""><font face="Arial" size="3">1:30 PM\, proceed south on Main Street\, turn east on Sixth Street to the Chadron Middle School where students from the Chadron Public Schools will join the procession to the CSC campus and the Chicoine Center. The Cardinal Singers will also perform at the&nbsp\;</font></span><span style="z-index: -1\;"><font face="Arial"><font size="3"><span data-term="goog_798834969" style="z-index: 0\;" tabindex="">2:00 PM</span>&nbsp\;ceremony.</font></font></span></span></div>\n\n<div style="font-family: Arial\, Helvetica\, sans-serif\; margin: 0in 0in 0pt\; background: white\;"><font face="Arial" size="3">&nbsp\;</font></div>\n\n<div style="font-family: Arial\, Helvetica\, sans-serif\; widows: 1\; margin: 0in 0in 0pt\; background: white\;"><font face="Arial" size="3">The following events will take place in the CSC Student Center Ballroom.</font></div>\n\n<div style="font-family: Arial\, Helvetica\, sans-serif\; margin: 0in 0in 0pt\; background: white\;"><font face="Arial">9:00-9:50 AM: &ldquo\;Backlash to Brown v. Board: Senator John Stennis and the Destruction of Public Schools\,&rdquo\; featuring Nesheim.&nbsp\;</font></div>\n\n<div style="font-family: Arial\, Helvetica\, sans-serif\; margin: 0in 0in 0pt\; background: white\;"><font face="Arial" size="3">&nbsp\;</font></div>\n\n<div style="font-family: Arial\, Helvetica\, sans-serif\; margin: 0in 0in 0pt\; background: white\;"><font face="Arial">10:00-10:50 AM: &ldquo\;Reflections on &#39\;Letter from Birmingham Jail\,&#39\;&rdquo\; featuring CSC faculty members Mary Clai Jones and Dr. Elisabeth Ellington.&nbsp\;</font></div>\n\n<div style="font-family: Arial\, Helvetica\, sans-serif\; margin: 0in 0in 0pt\; background: white\;"><font face="Arial" size="3">&nbsp\;</font></div>\n\n<div style="font-family: Arial\, Helvetica\, sans-serif\; margin: 0in 0in 0pt\; background: white\;"><font face="Arial">11:00 AM-12:30 PM: A screening of a documentary\, &ldquo\;Sixty years after the Little Rock Nine faced violent resistance when desegregating Central High in Arkansas\, America&rsquo\;s schools continue to represent the key battleground of the Civil Rights Movement.&rdquo\;&nbsp\;</font></div>\n\n<div style="font-family: Arial\, Helvetica\, sans-serif\; margin: 0in 0in 0pt\; background: white\;"><font face="Arial" size="3">&nbsp\;</font></div>\n\n<div style="font-family: Arial\, Helvetica\, sans-serif\; margin: 0in 0in 0pt\; background: white\;"><font face="Arial">3:00-3:50 PM: &ldquo\;Indigenous Education and Civil Rights: Mexico\, South Africa\, and the United States\,&rdquo\; featuring CSC faculty members Dr. Robert Knight\, Dr. Thomas Smith\, and Dr. David Christensen.</font></div>\n\n<div style="font-family: Arial\, Helvetica\, sans-serif\; margin: 0in 0in 0pt\; background: white\;"><font face="Arial" size="3">&nbsp\;</font></div>\n\n<div style="font-family: Arial\, Helvetica\, sans-serif\; margin: 0in 0in 0pt\; background: white\;"><font face="Arial">6:00-7:30 PM: Henderson&rsquo\;s lecture\, &ldquo\;Brown v. Board of Education: Voices of the Legacy.&rdquo\;</font></div>\n
LOCATION:CSC Student Center Ballroom
UID:e.2623.878
SEQUENCE:3
DTSTAMP:20260420T210213Z
URL:http://chadronne.chambermaster.com/events/details/mlk-day-celebration-878
END:VEVENT

END:VCALENDAR
