BEGIN:VCALENDAR
VERSION:2.0
PRODID:-//ChamberMaster//Event Calendar 2.0//EN
METHOD:PUBLISH
X-PUBLISHED-TTL:P3D
REFRESH-INTERVAL:P3D
CALSCALE:GREGORIAN
BEGIN:VEVENT
DTSTART:20170928T130000Z
DTEND:20170929T030000Z
X-MICROSOFT-CDO-ALLDAYEVENT:FALSE
SUMMARY:Mari Sandoz Conference
DESCRIPTION:September 28\n\n			Conference in Student Center Ballroom 7:00AM - 9:00PM\n\n			September 28\n\n			Board Meeting: Mari Sandoz Kosman Room 8:00AM - 6:00PM\n\n			Information for the Pilster Lecture and Conference is on their website at:\n\n			http://www.marisandoz.org/events_activities/2016_conference/ & \n\n			www.marisandoz.org \n\n			This website will also have information about registration and etc.
X-ALT-DESC;FMTTYPE=text/html:<div>&nbsp\;</div>\n\n<div>\n<table border="0" cellpadding="0" cellspacing="0" class="twEventDetailTable" style="line-height: 1.4em\; width: 600px\; color: rgb(0\, 0\, 0)\; font-family: verdana\; font-size: 10.6667px\;">\n	<tbody style="line-height: 1.4em\;">\n		<tr style="line-height: 1.4em\; vertical-align: top\;">\n			<td class="twEventDetailData" style="line-height: 1.4em\; padding: 8px 0px 0px\; vertical-align: baseline\; font-size: 8pt\;">\n			<p class="firstp" style="line-height: 1.4em\; margin: 0px\; padding: 0px\;">September 28<br style="line-height: 1.4em\;" />\n			Conference in Student Center Ballroom 7:00AM - 9:00PM</p>\n\n			<p class="middlep" style="line-height: 1.4em\; margin: 0.5em 0px\; padding: 0px\;"><strong style="line-height: 1.4em\;">September 28<br style="line-height: 1.4em\;" />\n			Board Meeting:&nbsp\;</strong>Mari Sandoz Kosman Room 8:00AM - 6:00PM</p>\n\n			<p class="middlep" style="line-height: 1.4em\; margin: 0.5em 0px\; padding: 0px\;">Information for the Pilster Lecture and Conference is on their website at:</p>\n\n			<p class="middlep" style="line-height: 1.4em\; margin: 0.5em 0px\; padding: 0px\;"><a href="http://www.marisandoz.org/events_activities/2016_conference/" style="line-height: 1.4em\; text-decoration-line: none\; color: rgb(102\, 0\, 51)\;" target="_blank">http://www.marisandoz.org/events_activities/2016_conference/</a>&nbsp\;&amp\;&nbsp\;</p>\n\n			<p class="lastp" style="line-height: 1.4em\; margin: 0.5em 0px 0px\; padding: 0px\;"><a href="http://www.marisandoz.org/events_activities/pilster_lecture.html" style="line-height: 1.4em\; text-decoration-line: none\; color: rgb(102\, 0\, 51)\;" target="_blank" title="http://www.marisandoz.org/events_activities/pilster_lecture.html">www.marisandoz.org&hellip\;</a><br style="line-height: 1.4em\;" />\n			This website will also have information about registration and etc.</p>\n			</td>\n		</tr>\n	</tbody>\n</table>\n</div>\n
LOCATION:Chadron Stat College Student Center Ballroom Mari Sandoz High Plains Heritage Center
UID:e.2623.593
SEQUENCE:3
DTSTAMP:20260422T082338Z
URL:http://chadronne.chambermaster.com/events/details/mari-sandoz-conference-593
END:VEVENT

END:VCALENDAR
