BEGIN:VCALENDAR
VERSION:2.0
PRODID:-//ChamberMaster//Event Calendar 2.0//EN
METHOD:PUBLISH
X-PUBLISHED-TTL:P3D
REFRESH-INTERVAL:P3D
CALSCALE:GREGORIAN
BEGIN:VEVENT
DTSTART:20180113T233000Z
DTEND:20180114T023000Z
X-MICROSOFT-CDO-ALLDAYEVENT:FALSE
SUMMARY:Lions Club Pancake Feed
DESCRIPTION:There will be a Chadron Lions Club and CHS Cardinal Singers Pancake Supper Entertainment will be by the Cardinal Singers.
X-ALT-DESC;FMTTYPE=text/html:<font face="Arial" style="background-color: rgb(255\, 255\, 255)\;"><font size="3"><span style="background-image: initial\; background-position: initial\; background-size: initial\; background-repeat: initial\; background-attachment: initial\; background-origin: initial\; background-clip: initial\;">There will be a Chadron Lions Club and CHS Cardinal Singers</span>&nbsp\;Pancake Supper&nbsp\;</font></font><font face="Arial" size="3" style="background-color: rgb(255\, 255\, 255)\;">Entertainment will be by the Cardinal Singers.</font>
LOCATION:Chadron American Legion
UID:e.2623.653
SEQUENCE:3
DTSTAMP:20260420T143644Z
URL:http://chadronne.chambermaster.com/events/details/lions-club-pancake-feed-653
END:VEVENT

END:VCALENDAR
