BEGIN:VCALENDAR
VERSION:2.0
PRODID:-//ChamberMaster//Event Calendar 2.0//EN
METHOD:PUBLISH
X-PUBLISHED-TTL:P3D
REFRESH-INTERVAL:P3D
CALSCALE:GREGORIAN
BEGIN:VEVENT
DTSTART:20170815T230000Z
DTEND:20170816T000000Z
X-MICROSOFT-CDO-ALLDAYEVENT:FALSE
SUMMARY:Intermediate School Open House
DESCRIPTION:The Chadron Intermediate School building will be open for the beginning of the year Open House. Parents and students are encouraged to attend and meet with teachers and administrators.
X-ALT-DESC;FMTTYPE=text/html:<span style="color: rgb(51\, 51\, 51)\; font-family: Arial\, Helvetica\, sans-serif\; font-size: 16px\; background-color: rgba(255\, 255\, 255\, 0.94)\;">The Chadron Intermediate School building will be open for the beginning of the year Open House. Parents and students are encouraged&nbsp\;to attend and meet with teachers and administrators.&nbsp\;</span>
LOCATION:Chadron Intermediate Old Kenwood Elementary
UID:e.2623.415
SEQUENCE:3
DTSTAMP:20260423T181905Z
URL:http://chadronne.chambermaster.com/events/details/intermediate-school-open-house-415
END:VEVENT

END:VCALENDAR
