BEGIN:VCALENDAR
VERSION:2.0
PRODID:-//ChamberMaster//Event Calendar 2.0//EN
METHOD:PUBLISH
X-PUBLISHED-TTL:P3D
REFRESH-INTERVAL:P3D
CALSCALE:GREGORIAN
BEGIN:VEVENT
DTSTART:20170923T153000Z
DTEND:20170923T170000Z
X-MICROSOFT-CDO-ALLDAYEVENT:FALSE
SUMMARY:Homecoming Parade
DESCRIPTION:Join CSC students\, faculty\, and alumni for the anuual homecoming parade! The homecoming theme is the Wizard of Oz! There really is no place like CSC\, so come on out and see how student clubs community organization show of their CSC pride! See you there!
X-ALT-DESC;FMTTYPE=text/html:Join CSC students\, faculty\, and alumni for the anuual homecoming parade! The homecoming theme is the Wizard of Oz! There really is no place like CSC\, so come on out and see how student clubs community organization show of their CSC pride! See you there!
LOCATION:Main Street from 10th to 4th Streets
UID:e.2623.611
SEQUENCE:3
DTSTAMP:20260421T193538Z
URL:http://chadronne.chambermaster.com/events/details/homecoming-parade-611
END:VEVENT

END:VCALENDAR
