BEGIN:VCALENDAR
VERSION:2.0
PRODID:-//ChamberMaster//Event Calendar 2.0//EN
METHOD:PUBLISH
X-PUBLISHED-TTL:P3D
REFRESH-INTERVAL:P3D
CALSCALE:GREGORIAN
BEGIN:VEVENT
DTSTART:20171007T170000Z
DTEND:20171007T210000Z
X-MICROSOFT-CDO-ALLDAYEVENT:FALSE
SUMMARY:Harvest Fest
DESCRIPTION:Join us for the 3rd Annual Chadron Harvest Fest! Bring the whole family down to the 200 block of Main street. Let the kids play games and enter the painted pumpkin contest while Mom and dad shop the many great vendors selling everything from jewelry to jams and jellies. See you there!!
X-ALT-DESC;FMTTYPE=text/html:Join us for the 3rd Annual Chadron Harvest Fest! Bring the whole family down to the 200 block of Main street. Let the kids play games and enter the painted pumpkin contest while Mom and dad shop the many great vendors selling everything from jewelry to jams and jellies. See you there!!
LOCATION:200 Block of Main St.
UID:e.2623.607
SEQUENCE:3
DTSTAMP:20260424T153928Z
URL:http://chadronne.chambermaster.com/events/details/harvest-fest-607
END:VEVENT

END:VCALENDAR
