BEGIN:VCALENDAR
VERSION:2.0
PRODID:-//ChamberMaster//Event Calendar 2.0//EN
METHOD:PUBLISH
X-PUBLISHED-TTL:P3D
REFRESH-INTERVAL:P3D
CALSCALE:GREGORIAN
BEGIN:VEVENT
DTSTART:20180417T000000Z
DTEND:20180417T020000Z
X-MICROSOFT-CDO-ALLDAYEVENT:FALSE
SUMMARY:Great Plains Trail Presentation
DESCRIPTION:Come hear a story about a hiker's journey over the newly established Great Plains Trail\, part of which goes through Northwest Nebraska. It's a story of adventure and discovery on the first-ever thru-hike of this newly established resource. Stretching for 2200 miles across rolling grasslands\, through rocky canyons and over forested ridges\, the Great Plains Trail aims to be America's next great adventure. Follow along as Strider traverses this trail from the desert of west Texas to the Canadian Border\, in an attempt to raise awareness and generate support of this great resource.
X-ALT-DESC;FMTTYPE=text/html:<span style="color: rgb(75\, 79\, 86)\; font-family: Helvetica\, Arial\, sans-serif\; font-size: 14px\; background-color: rgb(255\, 255\, 255)\;">Come hear a story about a hiker&#39\;s journey over the newly established Great Plains Trail\, part of which goes through Northwest Nebraska. It&#39\;s a story of adventure and discovery on the first-ever thru-hike of this newly established resource. Stretching for 2200 miles across rolling grasslands\, through rocky canyons and over forested ridges\, the Great Plains Trail aims to be America&rsquo\;s next great adventure. Follow along as Strider traverses this trail from the desert of west Texas to the Canadian Border\, in an attempt to raise awareness and generate support of this great resource.</span>
LOCATION:CSC's Nelson Physical Activity Center Room 201
UID:e.2623.1978
SEQUENCE:3
DTSTAMP:20260424T172750Z
URL:http://chadronne.chambermaster.com/events/details/great-plains-trail-presentation-1978
END:VEVENT

END:VCALENDAR
