BEGIN:VCALENDAR
VERSION:2.0
PRODID:-//ChamberMaster//Event Calendar 2.0//EN
METHOD:PUBLISH
X-PUBLISHED-TTL:P3D
REFRESH-INTERVAL:P3D
CALSCALE:GREGORIAN
BEGIN:VEVENT
DTSTART:20180223T010000Z
DTEND:20180223T030000Z
X-MICROSOFT-CDO-ALLDAYEVENT:FALSE
SUMMARY:Goal Setting and Vision Board Workshop
DESCRIPTION:Turn your dreams into a reality with visioning and goal setting! Limited space\, call to claim your space!
X-ALT-DESC;FMTTYPE=text/html:Turn your dreams into a reality with visioning and goal setting! Limited space\, call to claim your space!
LOCATION:Library Annex 519 Bordeaux St.
UID:e.2623.949
SEQUENCE:3
DTSTAMP:20260419T132042Z
URL:http://chadronne.chambermaster.com/events/details/goal-setting-and-vision-board-workshop-949
END:VEVENT

END:VCALENDAR
