BEGIN:VCALENDAR
VERSION:2.0
PRODID:-//ChamberMaster//Event Calendar 2.0//EN
METHOD:PUBLISH
X-PUBLISHED-TTL:P3D
REFRESH-INTERVAL:P3D
CALSCALE:GREGORIAN
BEGIN:VEVENT
DTSTART:20170826T010000Z
DTEND:20170826T020000Z
X-MICROSOFT-CDO-ALLDAYEVENT:FALSE
SUMMARY:Fort Robinson Ranger Program
DESCRIPTION:A series of ranger programs is taking place at Fort Robinson State Park during the months of July and August .The educational programs\, which address a wide variety of nature and history topics\, are produced as a collaboration between the Nebraska Game and Parks Commission\, Agate Fossil Beds National Monument and the U.S. Forest Service's Hudson-Meng Education and Research Center.\n\n  This weeks program is:\n\n Locking Horns: The Story of the Bison Skull Evolution\n\n \n\nEach program is free and open to the public\, but vehicles entering the parks must have a Nebraska park entry permit. The permits are available online at outdoornebraska.org\, the parks' headquarters or vendors throughout the state
X-ALT-DESC;FMTTYPE=text/html:<div style="color: rgb(51\, 51\, 51)\; font-size: 13px\; background-color: rgb(255\, 255\, 255)\; font-family: Arial\, Helvetica\, sans-serif\; margin: 0in 0in 0pt\;"><font face="Arial" size="3">A series of ranger programs is taking place at Fort Robinson State Park during the months of July and August .The educational programs\, which address a wide variety of nature and history topics\, are produced as a collaboration between the Nebraska Game and Parks Commission\, Agate Fossil Beds National Monument and the U.S. Forest Service&rsquo\;s&nbsp\;Hudson-Meng&nbsp\;Education and Research Center.</font></div>\n\n<div style="color: rgb(51\, 51\, 51)\; font-size: 13px\; background-color: rgb(255\, 255\, 255)\; font-family: Arial\, Helvetica\, sans-serif\; margin: 0in 0in 0pt\;"><font face="Arial" size="3">&nbsp\; This weeks program is:</font></div>\n\n<div style="color: rgb(51\, 51\, 51)\; font-size: 13px\; background-color: rgb(255\, 255\, 255)\; font-family: Arial\, Helvetica\, sans-serif\; margin: 0in 0in 0pt\;"><font face="Arial" size="3">&nbsp\;</font><span style="font-family: Arial\; background-color: rgb(255\, 255\, 255)\;">Locking Horns: The Story of the Bison Skull Evolution</span><br />\n&nbsp\;</div>\n\n<div style="color: rgb(51\, 51\, 51)\; font-size: 13px\; background-color: rgb(255\, 255\, 255)\; font-family: Arial\, Helvetica\, sans-serif\; margin: 0in 0in 0pt\;"><font face="Arial" size="3">Each program is free and open to the public\, but vehicles entering the parks must have a Nebraska park entry permit. The permits are available online at&nbsp\;</font><a data-saferedirecturl="https://www.google.com/url?hl=en&amp\;q=http://outdoornebraska.org&amp\;source=gmail&amp\;ust=1500137477318000&amp\;usg=AFQjCNEo_M1xj5oP5gHclDrdSfKA78ZgPg" href="http://outdoornebraska.org/" style="color: rgb(7\, 130\, 193)\;" target="_blank"><span style="color: windowtext\;"><font face="Arial" size="3">outdoornebraska.org</font></span></a><font face="Arial" size="3">\, the parks&rsquo\; headquarters or vendors throughout the state</font></div>\n
LOCATION:Soldier Creek Campground Fort Robinson State Park
UID:e.2623.542
SEQUENCE:3
DTSTAMP:20260422T015514Z
URL:http://chadronne.chambermaster.com/events/details/fort-robinson-ranger-program-542
END:VEVENT

END:VCALENDAR
