BEGIN:VCALENDAR
VERSION:2.0
PRODID:-//ChamberMaster//Event Calendar 2.0//EN
METHOD:PUBLISH
X-PUBLISHED-TTL:P3D
REFRESH-INTERVAL:P3D
CALSCALE:GREGORIAN
BEGIN:VEVENT
DTSTART:20170708T000000Z
DTEND:20170708T010000Z
X-MICROSOFT-CDO-ALLDAYEVENT:FALSE
SUMMARY:Flag Cermony
DESCRIPTION:The dramitic presentation of the flag is among the activites planned for this years Flag Cermony. Gather with us on the lawn and listen to the history and presentation of our nations flag.
X-ALT-DESC;FMTTYPE=text/html:The dramitic presentation of the flag is among the activites planned for this years Flag Cermony. Gather with us on the lawn and listen to the history and presentation of our nations flag.&nbsp\;
LOCATION:Courthouse lawn
UID:e.2623.370
SEQUENCE:3
DTSTAMP:20260421T230843Z
URL:http://chadronne.chambermaster.com/events/details/flag-cermony-370
END:VEVENT

END:VCALENDAR
