BEGIN:VCALENDAR
VERSION:2.0
PRODID:-//ChamberMaster//Event Calendar 2.0//EN
METHOD:PUBLISH
X-PUBLISHED-TTL:P3D
REFRESH-INTERVAL:P3D
CALSCALE:GREGORIAN
BEGIN:VEVENT
DTSTART:20170618T170000Z
DTEND:20170618T200000Z
X-MICROSOFT-CDO-ALLDAYEVENT:FALSE
SUMMARY:Fathers Day Buffet
DESCRIPTION:Come treat you Dad to a great Buffett lunch at the Fort Robinson Restaurant.
X-ALT-DESC;FMTTYPE=text/html:Come treat you Dad to a great Buffett lunch at the Fort Robinson Restaurant.
LOCATION:Fort Robinson Restaurant\, Main lodge
UID:e.2623.384
SEQUENCE:3
DTSTAMP:20260421T212332Z
URL:http://chadronne.chambermaster.com/events/details/fathers-day-buffet-384
END:VEVENT

END:VCALENDAR
