BEGIN:VCALENDAR
VERSION:2.0
PRODID:-//ChamberMaster//Event Calendar 2.0//EN
METHOD:PUBLISH
X-PUBLISHED-TTL:P3D
REFRESH-INTERVAL:P3D
CALSCALE:GREGORIAN
BEGIN:VEVENT
DTSTART:20170825T010000Z
DTEND:20170825T023000Z
X-MICROSOFT-CDO-ALLDAYEVENT:FALSE
SUMMARY:Faculty Recital- CSC
DESCRIPTION:Bobby Pace\, CSC Music Faculty\, will be presenting the first of numerous faculty recitals from the music department for the general public and students of CSC.
X-ALT-DESC;FMTTYPE=text/html:Bobby Pace\, CSC Music Faculty\, will be presenting the first of numerous faculty&nbsp\;recitals from the music department for the general public and students of CSC.
LOCATION:Auditorum\, Memeorial Hall
UID:e.2623.412
SEQUENCE:3
DTSTAMP:20260424T011528Z
URL:http://chadronne.chambermaster.com/events/details/faculty-recital-csc-412
END:VEVENT

END:VCALENDAR
