BEGIN:VCALENDAR
VERSION:2.0
PRODID:-//ChamberMaster//Event Calendar 2.0//EN
METHOD:PUBLISH
X-PUBLISHED-TTL:P3D
REFRESH-INTERVAL:P3D
CALSCALE:GREGORIAN
BEGIN:VEVENT
DTSTART:20170817T160000Z
DTEND:20170821T220000Z
X-MICROSOFT-CDO-ALLDAYEVENT:FALSE
SUMMARY:Eclipse Viewing at the Zoo
DESCRIPTION:The zoo will be hosting a fun family event August 17-21 with education tables about the eclipse\, selling food\, and seeing how the animals will react towards the eclipse. On Monday August 21 zoo doors will open at 8am (regular admission applies) glasses will be available to guest while supplies last.
X-ALT-DESC;FMTTYPE=text/html:The zoo will be hosting a fun family event August 17-21 with education tables about the eclipse\, selling food\, and seeing how the animals will react towards the eclipse. On Monday August 21 zoo doors will open at 8am (regular admission applies) glasses will be available to guest while supplies last.
LOCATION:Riverside Discovery Center
UID:e.2623.596
SEQUENCE:3
DTSTAMP:20260422T082402Z
URL:http://chadronne.chambermaster.com/events/details/eclipse-viewing-at-the-zoo-596
END:VEVENT

END:VCALENDAR
