BEGIN:VCALENDAR
VERSION:2.0
PRODID:-//ChamberMaster//Event Calendar 2.0//EN
METHOD:PUBLISH
X-PUBLISHED-TTL:P3D
REFRESH-INTERVAL:P3D
CALSCALE:GREGORIAN
BEGIN:VEVENT
DTSTART:20170819T000000Z
DTEND:20170819T020000Z
X-MICROSOFT-CDO-ALLDAYEVENT:FALSE
SUMMARY:Eclipse Celebration Sip & Paint
DESCRIPTION:Come celebrate the start of school as well as the upcoming color eclipse at this family friendly Sip and and Paint. Going to be a blast. Open to all ages. Please prepay to reserve you and your families spots by Friday August 4th.
X-ALT-DESC;FMTTYPE=text/html:<span style="color: rgb(75\, 79\, 86)\; font-family: Helvetica\, Arial\, sans-serif\; font-size: 14px\; background-color: rgb(255\, 255\, 255)\;">Come celebrate the start of school as well as the upcoming color eclipse at this family friendly Sip and and Paint. Going to be a blast. Open to all ages. Please prepay to reserve you and your families spots by Friday August 4th.&nbsp\;</span>
LOCATION:Ta Da Quilt Shop 223 Main St
UID:e.2623.539
SEQUENCE:3
DTSTAMP:20260421T115043Z
URL:http://chadronne.chambermaster.com/events/details/eclipse-celebration-sip-paint-539
END:VEVENT

END:VCALENDAR
