BEGIN:VCALENDAR
VERSION:2.0
PRODID:-//ChamberMaster//Event Calendar 2.0//EN
METHOD:PUBLISH
X-PUBLISHED-TTL:P3D
REFRESH-INTERVAL:P3D
CALSCALE:GREGORIAN
BEGIN:VEVENT
DTSTART:20170730T220000Z
DTEND:20170731T020000Z
X-MICROSOFT-CDO-ALLDAYEVENT:FALSE
SUMMARY:Dawes County Tractor Pull
DESCRIPTION:The Dawes County Ag Society and Hwy 20 Antique Tractor Club will host a tractor pull as part of the 2017 Dawes County Fair .
X-ALT-DESC;FMTTYPE=text/html:<span style="font-family: Arial\; background-color: rgb(255\, 255\, 255)\;">The Dawes County Ag Society and Hwy 20 Antique Tractor Club will host a tractor pull&nbsp\;</span>as part of the 2017 Dawes County Fair&nbsp\;.
LOCATION:Dawes County Fairgrounds Main Grandstand
UID:e.2623.544
SEQUENCE:3
DTSTAMP:20260422T114157Z
URL:http://chadronne.chambermaster.com/events/details/dawes-county-tractor-pull-544
END:VEVENT

END:VCALENDAR
