BEGIN:VCALENDAR
VERSION:2.0
PRODID:-//ChamberMaster//Event Calendar 2.0//EN
METHOD:PUBLISH
X-PUBLISHED-TTL:P3D
REFRESH-INTERVAL:P3D
CALSCALE:GREGORIAN
BEGIN:VEVENT
DTSTART:20180421T180000Z
DTEND:20180421T220000Z
X-MICROSOFT-CDO-ALLDAYEVENT:FALSE
SUMMARY:CSC's Big Event
DESCRIPTION:
X-ALT-DESC;FMTTYPE=text/html:
LOCATION:
UID:e.2623.907
SEQUENCE:3
DTSTAMP:20260419T210058Z
URL:http://chadronne.chambermaster.com/events/details/csc-s-big-event-907
END:VEVENT

END:VCALENDAR
