BEGIN:VCALENDAR
VERSION:2.0
PRODID:-//ChamberMaster//Event Calendar 2.0//EN
METHOD:PUBLISH
X-PUBLISHED-TTL:P3D
REFRESH-INTERVAL:P3D
CALSCALE:GREGORIAN
BEGIN:VEVENT
DTSTART:20170916T010000Z
DTEND:20170916T040000Z
X-MICROSOFT-CDO-ALLDAYEVENT:FALSE
SUMMARY:CSC Rodeo
DESCRIPTION:Come on out and cheer on the CSC Cowboys and Cowgrils as they open their rodeo season at home. Cowboys and Cowgirls will compete in events like saddle bronc riding\, goat tying\, bull riding\, barrel races\, barebeack riding\, team roping\, steer wrestling and tiedown roping. Salck rounds will take place all day with performaces Friday and Saturday night. Short go begins Sunday at 10 am
X-ALT-DESC;FMTTYPE=text/html:Come on out and cheer on the CSC Cowboys and Cowgrils as they open their rodeo season at home. Cowboys and Cowgirls will compete in events like saddle bronc riding\, goat tying\, bull riding\, barrel races\, barebeack riding\, team roping\, steer wrestling and tiedown roping. Salck rounds will take place all day with performaces Friday and Saturday night. Short go begins Sunday at 10 am
LOCATION:Dawes County Fairgrounds Arena and Grandstand
UID:e.2623.608
SEQUENCE:3
DTSTAMP:20260422T032026Z
URL:http://chadronne.chambermaster.com/events/details/csc-rodeo-608
END:VEVENT

END:VCALENDAR
