BEGIN:VCALENDAR
VERSION:2.0
PRODID:-//ChamberMaster//Event Calendar 2.0//EN
METHOD:PUBLISH
X-PUBLISHED-TTL:P3D
REFRESH-INTERVAL:P3D
CALSCALE:GREGORIAN
BEGIN:VEVENT
DTSTART:20170708T140000Z
DTEND:20170708T210000Z
X-MICROSOFT-CDO-ALLDAYEVENT:FALSE
SUMMARY:Classics in the Park
DESCRIPTION:Enjoy the classic cars on display in Chadron's beautiful Wilson Park.
X-ALT-DESC;FMTTYPE=text/html:Enjoy the classic cars on display in Chadron&#39\;s beautiful Wilson Park.
LOCATION:Wilson Park\, Chadron
UID:e.2623.154
SEQUENCE:3
DTSTAMP:20260424T075135Z
URL:http://chadronne.chambermaster.com/events/details/classics-in-the-park-154
END:VEVENT

END:VCALENDAR
