BEGIN:VCALENDAR
VERSION:2.0
PRODID:-//ChamberMaster//Event Calendar 2.0//EN
METHOD:PUBLISH
X-PUBLISHED-TTL:P3D
REFRESH-INTERVAL:P3D
CALSCALE:GREGORIAN
BEGIN:VEVENT
DTSTART:20170830T000000Z
DTEND:20170830T020000Z
X-MICROSOFT-CDO-ALLDAYEVENT:FALSE
SUMMARY:CHS Softball Game
DESCRIPTION:Come on out and cheer on the Chadron High School Softball team as they take on Scottsbluff. JV Plays at 4.
X-ALT-DESC;FMTTYPE=text/html:Come on out and cheer on the Chadron High School Softball team as they take on Scottsbluff. JV Plays at 4.
LOCATION:Hampton Field\, Chadron
UID:e.2623.418
SEQUENCE:3
DTSTAMP:20260424T080525Z
URL:http://chadronne.chambermaster.com/events/details/chs-softball-game-418
END:VEVENT

END:VCALENDAR
