BEGIN:VCALENDAR
VERSION:2.0
PRODID:-//ChamberMaster//Event Calendar 2.0//EN
METHOD:PUBLISH
X-PUBLISHED-TTL:P3D
REFRESH-INTERVAL:P3D
CALSCALE:GREGORIAN
BEGIN:VEVENT
DTSTART:20170222T210000Z
DTEND:20170222T230000Z
X-MICROSOFT-CDO-ALLDAYEVENT:FALSE
SUMMARY:Chamber Open House
DESCRIPTION:The Chamber will be holding Open Office Hours from 2-4pm every Wednesday in February to give our members a chance to stop by and chat about anything you need help with. Need your directory listing updated? Want to see what benefits you have available to you? Have a business related issue you would like to talk through and/or brainstorm solutions for? Just want to chat for a few minutes? Stop on by\, grab a cup of coffee or iced tea and a snack and let's chat!
X-ALT-DESC;FMTTYPE=text/html:The Chamber will be holding Open Office Hours from 2-4pm&nbsp\;every Wednesday in February to give our members a chance to stop by and chat about anything you need help with. Need your directory listing updated? Want to see what benefits you have available to you? Have a business related issue you would like to talk through and/or brainstorm solutions for? Just want to chat for a few minutes? Stop on by\, grab a cup of coffee or iced tea and a snack and let&#39\;s chat!&nbsp\;
LOCATION:706 W. Third Street Chadron\, NE 69337
UID:e.2623.133
SEQUENCE:3
DTSTAMP:20260426T033517Z
URL:http://chadronne.chambermaster.com/events/details/chamber-open-house-133
END:VEVENT

END:VCALENDAR
