BEGIN:VCALENDAR
VERSION:2.0
PRODID:-//ChamberMaster//Event Calendar 2.0//EN
METHOD:PUBLISH
X-PUBLISHED-TTL:P3D
REFRESH-INTERVAL:P3D
CALSCALE:GREGORIAN
BEGIN:VEVENT
DTSTART;VALUE=DATE:20180525
DTEND;VALUE=DATE:20180526
TRANSP:TRANSPARENT
X-MICROSOFT-CDO-ALLDAYEVENT:TRUE
SUMMARY:Chadron Public Library Summer Reading
DESCRIPTION:Summer Reading Registration at the Chadron Public Library opens Friday\, May 25. All children ages 6 months- 18 years are invited to register. The program will run through July 20th.
X-ALT-DESC;FMTTYPE=text/html:<font color="#000000" style="font-family: Arial\, sans-serif\; font-size: 16px\; background-color: rgb(255\, 255\, 255)\;">Summer Reading Registration&nbsp\;</font><font color="#000000" style="font-family: Arial\, sans-serif\; font-size: 16px\; background-color: rgb(255\, 255\, 255)\;">at the Chadron Public Library&nbsp\;</font><font color="#000000" style="font-family: Arial\, sans-serif\; font-size: 16px\; background-color: rgb(255\, 255\, 255)\;">opens&nbsp\;</font><font color="#000000" style="font-family: Arial\, sans-serif\; font-size: 16px\; background-color: rgb(255\, 255\, 255)\;">Friday\, May 25</font><font color="#000000" style="font-family: Arial\, sans-serif\; font-size: 16px\; background-color: rgb(255\, 255\, 255)\;">. All children ages 6 months- 18 years are invited to register. The program will run through July 20th.</font>
LOCATION:
UID:e.2623.2005
SEQUENCE:3
DTSTAMP:20260423T141200Z
URL:http://chadronne.chambermaster.com/events/details/chadron-public-library-summer-reading-2005
END:VEVENT

END:VCALENDAR
