BEGIN:VCALENDAR
VERSION:2.0
PRODID:-//ChamberMaster//Event Calendar 2.0//EN
METHOD:PUBLISH
X-PUBLISHED-TTL:P3D
REFRESH-INTERVAL:P3D
CALSCALE:GREGORIAN
BEGIN:VEVENT
DTSTART:20180224T010000Z
DTEND:20180224T030000Z
X-MICROSOFT-CDO-ALLDAYEVENT:FALSE
SUMMARY:Candidate Question and Answer
DESCRIPTION:Paul Theobald\, the Democratic candidate for the 3rd district House of Representative seat\, will answer questions and talk about issues of interest to rural Nebraskans.
X-ALT-DESC;FMTTYPE=text/html:Paul Theobald\, the Democratic candidate for the 3rd district House of Representative seat\, will answer questions and talk about issues of interest to rural Nebraskans.
LOCATION:Bean Broker 202 W 2nd St Chadron
UID:e.2623.950
SEQUENCE:3
DTSTAMP:20260419T131048Z
URL:http://chadronne.chambermaster.com/events/details/candidate-question-and-answer-950
END:VEVENT

END:VCALENDAR
