BEGIN:VCALENDAR
VERSION:2.0
PRODID:-//ChamberMaster//Event Calendar 2.0//EN
METHOD:PUBLISH
X-PUBLISHED-TTL:P3D
REFRESH-INTERVAL:P3D
CALSCALE:GREGORIAN
BEGIN:VEVENT
DTSTART:20170709T190000Z
DTEND:20170709T210000Z
X-MICROSOFT-CDO-ALLDAYEVENT:FALSE
SUMMARY:Boat Regatta
DESCRIPTION:Whether you're a salty dog or just a budding seaman\, test your maritime racing skills in the Fur Trade Regatta. The annual event\, which is part of "Fur Trade Funday" at Chadron State Park\, challenges teams of two to race canoes at the park's pond. Awards await winners of the convivial race\, which is open to canoers of all skill levels ages 12 and up. Open to racers and landlubbers free of charge (Donations accepted). Free paddleboat rides will follow the race.
X-ALT-DESC;FMTTYPE=text/html:<span style="color: rgb(23\, 23\, 23)\; font-family: &quot\;Times New Roman&quot\;\, serif\; font-size: 14px\; background-color: rgb(247\, 247\, 247)\;">Whether you&#39\;re a salty dog or just a budding seaman\, test your maritime racing skills in the Fur Trade Regatta. The annual event\, which is part of &quot\;Fur Trade Funday&quot\; at Chadron State Park\, challenges teams of two to race canoes at the park&#39\;s pond. Awards await winners of the convivial race\, which is open to canoers of all skill levels ages 12 and up. Open to racers and landlubbers free of charge (Donations accepted). Free paddleboat rides will follow the race.&nbsp\;</span>
LOCATION:Chadron State Park Pond
UID:e.2623.375
SEQUENCE:3
DTSTAMP:20260424T080746Z
URL:http://chadronne.chambermaster.com/events/details/boat-regatta-375
END:VEVENT

END:VCALENDAR
