BEGIN:VCALENDAR
VERSION:2.0
PRODID:-//ChamberMaster//Event Calendar 2.0//EN
METHOD:PUBLISH
X-PUBLISHED-TTL:P3D
REFRESH-INTERVAL:P3D
CALSCALE:GREGORIAN
BEGIN:VEVENT
DTSTART:20190204T180000Z
DTEND:20190205T000000Z
X-MICROSOFT-CDO-ALLDAYEVENT:FALSE
SUMMARY:Blood Drive
DESCRIPTION:Please come and donate blood for the Red Cross. There is a national shortage of blood\, and we desperately need new donations. Free t-shirt with donation while supplies last. Please make an appointment on-line or email Brittany to make an appointment.
X-ALT-DESC;FMTTYPE=text/html:Please come and donate blood for the Red Cross. There is a national shortage of blood\, and we desperately need new donations. Free t-shirt with donation while supplies last. Please make an appointment on-line or email Brittany to make an appointment.
LOCATION:Student Center Chadron State College
UID:e.2623.2234
SEQUENCE:3
DTSTAMP:20260422T154515Z
URL:http://chadronne.chambermaster.com/events/details/blood-drive-2234
END:VEVENT

END:VCALENDAR
